BEGIN:VCALENDAR
VERSION:2.0
PRODID:-//www.gramonet.cz//GramonetCalLib 1.0//EN
CALSCALE:GREGORIAN
METHOD:PUBLISH
BEGIN:VEVENT
SUMMARY:Tap Takeover pivovaru VIK
LOCATION:UDVOU
DTSTART:20240628T000000
DTEND:20240629T000000
UID:2026-04-19-19-26-36@infocaslav.cz
DTSTAMP:20260419T172636
Description:Pivovar VIK už dlouhodobě můžete vídat u nás na čepu a m
 y máme velkou radost\, že přijali pozvání k nám do Čáslavi! Vstupt
 e do světa\, kde se přetváří vášeň\, nasazení a tvrdá práce do 
 těch nejlepších piv. Naší základní myšlenkou je vyrábět pivo aut
 entické\, osobité a nekompromisní. Jsme hrdou součástí pivní revolu
 ce ve vnímání toho\, čím pivo je a čím může být.
END:VEVENT
END:VCALENDAR
