BEGIN:VCALENDAR
VERSION:2.0
PRODID:-//www.gramonet.cz//GramonetCalLib 1.0//EN
CALSCALE:GREGORIAN
METHOD:PUBLISH
BEGIN:VEVENT
SUMMARY:Tati, dědo pojď si hrát
LOCATION:Rodinné centrum Kopretina Čáslav
DTSTART:20250522T000000
DTEND:20250523T000000
UID:2026-04-19-21-07-10@infocaslav.cz
DTSTAMP:20260419T190710
Description:
END:VEVENT
END:VCALENDAR
