BEGIN:VCALENDAR
VERSION:2.0
PRODID:-//www.gramonet.cz//GramonetCalLib 1.0//EN
CALSCALE:GREGORIAN
METHOD:PUBLISH
BEGIN:VEVENT
SUMMARY:Technika linorytu
LOCATION:Galerie
DTSTART:20221108T000000
DTEND:20230416T000000
UID:2026-04-19-19-28-38@infocaslav.cz
DTSTAMP:20260419T172838
Description:
END:VEVENT
END:VCALENDAR
