BEGIN:VCALENDAR
VERSION:2.0
PRODID:-//www.gramonet.cz//GramonetCalLib 1.0//EN
CALSCALE:GREGORIAN
METHOD:PUBLISH
BEGIN:VEVENT
SUMMARY:Techtle Mechtle
LOCATION:Hotel Grand Čáslav
DTSTART:20250217T000000
DTEND:20250218T000000
UID:2026-04-19-19-28-48@infocaslav.cz
DTSTAMP:20260419T172848
Description:
END:VEVENT
END:VCALENDAR
