BEGIN:VCALENDAR
VERSION:2.0
PRODID:-//www.gramonet.cz//GramonetCalLib 1.0//EN
CALSCALE:GREGORIAN
METHOD:PUBLISH
BEGIN:VEVENT
SUMMARY:Terapie varhaní hudbou
LOCATION:Kostel sv. Petra a Pavla
DTSTART:20240922T000000
DTEND:20240923T000000
UID:2026-04-19-19-33-04@infocaslav.cz
DTSTAMP:20260419T173304
Description:
END:VEVENT
END:VCALENDAR
