BEGIN:VCALENDAR
VERSION:2.0
PRODID:-//www.gramonet.cz//GramonetCalLib 1.0//EN
CALSCALE:GREGORIAN
METHOD:PUBLISH
BEGIN:VEVENT
SUMMARY:Terapie varhanní hudbou
LOCATION:kostel sv. Petra a Pavla Čáslav
DTSTART:20231008T000000
DTEND:20231009T000000
UID:2026-04-19-21-07-12@infocaslav.cz
DTSTAMP:20260419T190712
Description:
END:VEVENT
END:VCALENDAR
