BEGIN:VCALENDAR
VERSION:2.0
PRODID:-//www.gramonet.cz//GramonetCalLib 1.0//EN
CALSCALE:GREGORIAN
METHOD:PUBLISH
BEGIN:VEVENT
SUMMARY:Terapie varhanní hudbou
LOCATION:Kostel sv. Petra a Pavla Čáslav
DTSTART:20250907T000000
DTEND:20250908T000000
UID:2026-04-19-20-59-01@infocaslav.cz
DTSTAMP:20260419T185901
Description:
END:VEVENT
END:VCALENDAR
