BEGIN:VCALENDAR
VERSION:2.0
PRODID:-//www.gramonet.cz//GramonetCalLib 1.0//EN
CALSCALE:GREGORIAN
METHOD:PUBLISH
BEGIN:VEVENT
SUMMARY:Terapie varhanní hudbou
LOCATION:kostel sv. Petra a Pavla
DTSTART:20220828T000000
DTEND:20220829T000000
UID:2026-04-19-19-34-41@infocaslav.cz
DTSTAMP:20260419T173441
Description:
END:VEVENT
END:VCALENDAR
