BEGIN:VCALENDAR
VERSION:2.0
PRODID:-//www.gramonet.cz//GramonetCalLib 1.0//EN
CALSCALE:GREGORIAN
METHOD:PUBLISH
BEGIN:VEVENT
SUMMARY:Terapie varhanní hudbou
LOCATION:kostel sv. Petra a Pavla
DTSTART:20230416T000000
DTEND:20230417T000000
UID:2026-04-19-19-34-39@infocaslav.cz
DTSTAMP:20260419T173439
Description:
END:VEVENT
END:VCALENDAR
