BEGIN:VCALENDAR
VERSION:2.0
PRODID:-//www.gramonet.cz//GramonetCalLib 1.0//EN
CALSCALE:GREGORIAN
METHOD:PUBLISH
BEGIN:VEVENT
SUMMARY:Top Gun: Maverick
LOCATION:Kino Miloše Formana, Jeníkovská 138/25, 28601
DTSTART:20220526T000000
DTEND:20220527T000000
UID:2026-04-19-19-31-16@infocaslav.cz
DTSTAMP:20260419T173116
Description:
END:VEVENT
END:VCALENDAR
