BEGIN:VCALENDAR
VERSION:2.0
PRODID:-//www.gramonet.cz//GramonetCalLib 1.0//EN
CALSCALE:GREGORIAN
METHOD:PUBLISH
BEGIN:VEVENT
SUMMARY:Tove
LOCATION:Kino Miloše Formana, Jeníkovská 138, Nové Město, 286 01 Čás
 lav
DTSTART:20220330T000000
DTEND:20220331T000000
UID:2026-04-19-21-01-19@infocaslav.cz
DTSTAMP:20260419T190119
Description:
END:VEVENT
END:VCALENDAR
