BEGIN:VCALENDAR
VERSION:2.0
PRODID:-//www.gramonet.cz//GramonetCalLib 1.0//EN
CALSCALE:GREGORIAN
METHOD:PUBLISH
BEGIN:VEVENT
SUMMARY:Traktoriáda
LOCATION:Národní zemědělské muzeum Čáslav
DTSTART:20251011T000000
DTEND:20251012T000000
UID:2026-04-19-20-57-35@infocaslav.cz
DTSTAMP:20260419T185735
Description:
END:VEVENT
END:VCALENDAR
