BEGIN:VCALENDAR
VERSION:2.0
PRODID:-//www.gramonet.cz//GramonetCalLib 1.0//EN
CALSCALE:GREGORIAN
METHOD:PUBLISH
BEGIN:VEVENT
SUMMARY:Třemošnické slavnosti
LOCATION:Město Třemošnice
DTSTART:20240601T000000
DTEND:20240602T000000
UID:2026-04-19-19-35-38@infocaslav.cz
DTSTAMP:20260419T173538
Description:
END:VEVENT
END:VCALENDAR
