BEGIN:VCALENDAR
VERSION:2.0
PRODID:-//www.gramonet.cz//GramonetCalLib 1.0//EN
CALSCALE:GREGORIAN
METHOD:PUBLISH
BEGIN:VEVENT
SUMMARY:TŘINÁCT U STOLU
LOCATION:Dusíkovo divadlo
DTSTART:20230920T000000
DTEND:20230921T000000
UID:2026-04-19-21-04-13@infocaslav.cz
DTSTAMP:20260419T190413
Description:
END:VEVENT
END:VCALENDAR
