BEGIN:VCALENDAR
VERSION:2.0
PRODID:-//www.gramonet.cz//GramonetCalLib 1.0//EN
CALSCALE:GREGORIAN
METHOD:PUBLISH
BEGIN:VEVENT
SUMMARY:Tropical Island
LOCATION:Tropical Island
DTSTART:20221026T000000
DTEND:20221028T000000
UID:2026-04-19-19-29-35@infocaslav.cz
DTSTAMP:20260419T172935
Description:
END:VEVENT
END:VCALENDAR
