BEGIN:VCALENDAR
VERSION:2.0
PRODID:-//www.gramonet.cz//GramonetCalLib 1.0//EN
CALSCALE:GREGORIAN
METHOD:PUBLISH
BEGIN:VEVENT
SUMMARY:Tupadlympiáda
LOCATION:Tupadly
DTSTART:20230722T000000
DTEND:20230723T000000
UID:2026-04-19-19-29-58@infocaslav.cz
DTSTAMP:20260419T172958
Description:
END:VEVENT
END:VCALENDAR
