BEGIN:VCALENDAR
VERSION:2.0
PRODID:-//www.gramonet.cz//GramonetCalLib 1.0//EN
CALSCALE:GREGORIAN
METHOD:PUBLISH
BEGIN:VEVENT
SUMMARY:Two man show
LOCATION:Klub Gumárna Bar K. Pazderského 2045, 28601 Čáslav-Nové Měst
 o, Česko
DTSTART:20220226T000000
DTEND:20220227T000000
UID:2026-04-19-21-02-15@infocaslav.cz
DTSTAMP:20260419T190215
Description:Malý a velký muž\, oba dva vtipní i hudebně nadaní. Arno
 t Frauenberg\, známý Stand Up komik a moderátor rádia Evropa 2 a pís
 ničkář Láska vás pobaví v jednom večeru. Kombinace Stand Up komedie
  a muziky je na zimní večery ten nejlepší program.\nZačátek: 19:00\n
 Vstupné: 200\,-
END:VEVENT
END:VCALENDAR
