BEGIN:VCALENDAR
VERSION:2.0
PRODID:-//www.gramonet.cz//GramonetCalLib 1.0//EN
CALSCALE:GREGORIAN
METHOD:PUBLISH
BEGIN:VEVENT
SUMMARY:Ty nevíš, kdo je PEPEK NÁMOŘNÍK?
LOCATION:Dusíkovo divadlo Čáslav
DTSTART:20250330T000000
DTEND:20250331T000000
UID:2026-04-19-19-36-47@infocaslav.cz
DTSTAMP:20260419T173647
Description:
END:VEVENT
END:VCALENDAR
