BEGIN:VCALENDAR
VERSION:2.0
PRODID:-//www.gramonet.cz//GramonetCalLib 1.0//EN
CALSCALE:GREGORIAN
METHOD:PUBLISH
BEGIN:VEVENT
SUMMARY:Týden hokeje
LOCATION:Zimní stadion Čáslav
DTSTART:20240119T000000
DTEND:20240120T000000
UID:2026-04-19-19-31-01@infocaslav.cz
DTSTAMP:20260419T173101
Description:
END:VEVENT
END:VCALENDAR
