BEGIN:VCALENDAR
VERSION:2.0
PRODID:-//www.gramonet.cz//GramonetCalLib 1.0//EN
CALSCALE:GREGORIAN
METHOD:PUBLISH
BEGIN:VEVENT
SUMMARY:Týden hokeje
LOCATION:Na Bělišti 2028, Čáslav
DTSTART:20250123T000000
DTEND:20250124T000000
UID:2026-04-19-19-30-52@infocaslav.cz
DTSTAMP:20260419T173052
Description:
END:VEVENT
END:VCALENDAR
