BEGIN:VCALENDAR
VERSION:2.0
PRODID:-//www.gramonet.cz//GramonetCalLib 1.0//EN
CALSCALE:GREGORIAN
METHOD:PUBLISH
BEGIN:VEVENT
SUMMARY:Týden hokeje
LOCATION:Hokejový klub Čáslav, z.s. Na Bělišti 2028,
DTSTART:20220128T000000
DTEND:20220129T000000
UID:2026-04-19-19-29-34@infocaslav.cz
DTSTAMP:20260419T172934
Description:V tento den budou mít všechny děti bez rozdílu dovednosti b
 ruslení jedinečnou možnost vyzkoušet si zdarma\, jaké to je být hoke
 jistou. Hokejový klub Čáslav ve spolupráci s Českým hokejem pořád
  na zimním stadionu akci v rámci Týdne hokeje. Kromě zážitku v podo
 bě prvních krůčků na ledě si každé dítě navíc s sebou domů odn
 ese zajímavý hokejový dárek. Přijďte si vyzkoušet lední hokej a za
 žijte spoustu zábavy!\n\nCo všechno je potřeba si na akci přinést? S
 tačí jen brusle\, helma a rukavice (postačí i lyžařská helma a ruka
 vice). V případě\, že máte doma chrániče loktů a kolen pro in-line
  bruslení\, vezměte je rovněž s sebou. Pokud nedisponujete bruslemi a 
 helmou\, můžete se obrátit na hlavního trenéra mládeže klubu s dota
 zem na možnost zapůjčení vybavení přímo na místě. Začátek 17:00
END:VEVENT
END:VCALENDAR
