BEGIN:VCALENDAR
VERSION:2.0
PRODID:-//www.gramonet.cz//GramonetCalLib 1.0//EN
CALSCALE:GREGORIAN
METHOD:PUBLISH
BEGIN:VEVENT
SUMMARY:TÃ½den knihoven
LOCATION:MÄ›stskÃ¡ knihovna ÄŒÃ¡slav
DTSTART:20241007T000000
DTEND:20241014T000000
UID:2026-04-19-19-29-34@infocaslav.cz
DTSTAMP:20260419T172934
Description:TÃ½den knihoven probÃ­hÃ¡ od 7. do 13. Å™Ã­jna v mÄ›stskÃ© knih
 ovnÄ› ÄŒÃ¡slav. TÄ›Å¡it se mÅ¯Å¾ete na workshop\, listovÃ¡nÃ­\, promÃ­jenÃ
 ­ upomÃ­nek a soutÄ›Å¾ o registraci zdarma na 1 rok pro dÄ›ti i dospÄ›lÃ©.
END:VEVENT
END:VCALENDAR
