BEGIN:VCALENDAR
VERSION:2.0
PRODID:-//www.gramonet.cz//GramonetCalLib 1.0//EN
CALSCALE:GREGORIAN
METHOD:PUBLISH
BEGIN:VEVENT
SUMMARY:Týden turistických informačních center
LOCATION:Informační centrum
DTSTART:20231025T000000
DTEND:20231026T000000
UID:2026-04-19-19-34-26@infocaslav.cz
DTSTAMP:20260419T173426
Description:Ve středu 25.10.2023 od 8:00 do 17:00 se můžete těšit na v
 olný vstup do Žižkovy síně s rozšířenou expozicí\, něco dobrého
  na zub s drobností pro radost a jako bonus bude pro návštěvníky od 1
 0:00 do 16:00 zpřístupněna i Synagoga Čáslav.\n\nBudeme rádi\, když
  se u nás zastavíte!
END:VEVENT
END:VCALENDAR
