BEGIN:VCALENDAR
VERSION:2.0
PRODID:-//www.gramonet.cz//GramonetCalLib 1.0//EN
CALSCALE:GREGORIAN
METHOD:PUBLISH
BEGIN:VEVENT
SUMMARY:Ucho
LOCATION:Kino
DTSTART:20221117T000000
DTEND:20221118T000000
UID:2026-04-19-19-28-45@infocaslav.cz
DTSTAMP:20260419T172845
Description:
END:VEVENT
END:VCALENDAR
