BEGIN:VCALENDAR
VERSION:2.0
PRODID:-//www.gramonet.cz//GramonetCalLib 1.0//EN
CALSCALE:GREGORIAN
METHOD:PUBLISH
BEGIN:VEVENT
SUMMARY:UDG
LOCATION:hotel Grand
DTSTART:20230421T000000
DTEND:20230422T000000
UID:2026-04-19-19-28-44@infocaslav.cz
DTSTAMP:20260419T172844
Description:
END:VEVENT
END:VCALENDAR
