BEGIN:VCALENDAR
VERSION:2.0
PRODID:-//www.gramonet.cz//GramonetCalLib 1.0//EN
CALSCALE:GREGORIAN
METHOD:PUBLISH
BEGIN:VEVENT
SUMMARY:Ukliďme Česko
LOCATION:Čeplov
DTSTART:20230401T000000
DTEND:20230402T000000
UID:2026-04-19-19-31-04@infocaslav.cz
DTSTAMP:20260419T173104
Description:
END:VEVENT
END:VCALENDAR
