BEGIN:VCALENDAR
VERSION:2.0
PRODID:-//www.gramonet.cz//GramonetCalLib 1.0//EN
CALSCALE:GREGORIAN
METHOD:PUBLISH
BEGIN:VEVENT
SUMMARY:Ušák Chicky a Zlokřeček
LOCATION:
DTSTART:20220414T000000
DTEND:20220415T000000
UID:2026-04-19-19-36-04@infocaslav.cz
DTSTAMP:20260419T173604
Description:
END:VEVENT
END:VCALENDAR
