BEGIN:VCALENDAR
VERSION:2.0
PRODID:-//www.gramonet.cz//GramonetCalLib 1.0//EN
CALSCALE:GREGORIAN
METHOD:PUBLISH
BEGIN:VEVENT
SUMMARY:V létě ti řeknu, jak se mám
LOCATION:Kino Miloše Formana, Jeníkovská 138/25
DTSTART:20220305T000000
DTEND:20220306T000000
UID:2026-04-19-19-36-24@infocaslav.cz
DTSTAMP:20260419T173624
Description:
END:VEVENT
END:VCALENDAR
