BEGIN:VCALENDAR
VERSION:2.0
PRODID:-//www.gramonet.cz//GramonetCalLib 1.0//EN
CALSCALE:GREGORIAN
METHOD:PUBLISH
BEGIN:VEVENT
SUMMARY:Václav Noid Bárta na Zámku Kačina
LOCATION:Zámek Kačina
DTSTART:20260825T000000
DTEND:20260826T000000
UID:2026-04-19-19-26-51@infocaslav.cz
DTSTAMP:20260419T172651
Description:
END:VEVENT
END:VCALENDAR
