BEGIN:VCALENDAR
VERSION:2.0
PRODID:-//www.gramonet.cz//GramonetCalLib 1.0//EN
CALSCALE:GREGORIAN
METHOD:PUBLISH
BEGIN:VEVENT
SUMMARY:Valentýn na věži 2025
LOCATION:Vyhlídková věž kostela sv. Petra a Pavla
DTSTART:20250214T000000
DTEND:20250215T000000
UID:2026-04-19-19-26-08@infocaslav.cz
DTSTAMP:20260419T172608
Description:
END:VEVENT
END:VCALENDAR
