BEGIN:VCALENDAR
VERSION:2.0
PRODID:-//www.gramonet.cz//GramonetCalLib 1.0//EN
CALSCALE:GREGORIAN
METHOD:PUBLISH
BEGIN:VEVENT
SUMMARY:Valentýnské cupcakes a jiné sladkosti
LOCATION:Dům dětí a mládeže Čáslav
DTSTART:20250209T000000
DTEND:20250210T000000
UID:2026-04-19-19-36-21@infocaslav.cz
DTSTAMP:20260419T173621
Description:
END:VEVENT
END:VCALENDAR
