BEGIN:VCALENDAR
VERSION:2.0
PRODID:-//www.gramonet.cz//GramonetCalLib 1.0//EN
CALSCALE:GREGORIAN
METHOD:PUBLISH
BEGIN:VEVENT
SUMMARY:Vánoční dětské představení
LOCATION:Dusíkovo divadlo
DTSTART:20221222T000000
DTEND:20221223T000000
UID:2026-04-19-19-33-06@infocaslav.cz
DTSTAMP:20260419T173306
Description:
END:VEVENT
END:VCALENDAR
