BEGIN:VCALENDAR
VERSION:2.0
PRODID:-//www.gramonet.cz//GramonetCalLib 1.0//EN
CALSCALE:GREGORIAN
METHOD:PUBLISH
BEGIN:VEVENT
SUMMARY:Vánoční dílna
LOCATION:Výstavní síň, náměstí J. Žižky z Trocnova
DTSTART:20241206T000000
DTEND:20241207T000000
UID:2026-04-19-19-36-46@infocaslav.cz
DTSTAMP:20260419T173646
Description:
END:VEVENT
END:VCALENDAR
