BEGIN:VCALENDAR
VERSION:2.0
PRODID:-//www.gramonet.cz//GramonetCalLib 1.0//EN
CALSCALE:GREGORIAN
METHOD:PUBLISH
BEGIN:VEVENT
SUMMARY:Vánoční dílna
LOCATION:Výstavní síň na náměstí J. Žižky z Trocnova
DTSTART:20231209T000000
DTEND:20231210T000000
UID:2026-04-19-19-31-02@infocaslav.cz
DTSTAMP:20260419T173102
Description:
END:VEVENT
END:VCALENDAR
