BEGIN:VCALENDAR
VERSION:2.0
PRODID:-//www.gramonet.cz//GramonetCalLib 1.0//EN
CALSCALE:GREGORIAN
METHOD:PUBLISH
BEGIN:VEVENT
SUMMARY:Vánoční focení v Kopretině
LOCATION:Rodinné centrum Kopretina Čáslav
DTSTART:20251218T000000
DTEND:20251219T000000
UID:2026-04-19-19-27-42@infocaslav.cz
DTSTAMP:20260419T172742
Description:
END:VEVENT
END:VCALENDAR
