BEGIN:VCALENDAR
VERSION:2.0
PRODID:-//www.gramonet.cz//GramonetCalLib 1.0//EN
CALSCALE:GREGORIAN
METHOD:PUBLISH
BEGIN:VEVENT
SUMMARY:Vánoční koncert
LOCATION:v kostelíku sv. Bonifáce v Lochách
DTSTART:20241201T000000
DTEND:20241202T000000
UID:2026-04-19-19-30-58@infocaslav.cz
DTSTAMP:20260419T173058
Description:
END:VEVENT
END:VCALENDAR
