BEGIN:VCALENDAR
VERSION:2.0
PRODID:-//www.gramonet.cz//GramonetCalLib 1.0//EN
CALSCALE:GREGORIAN
METHOD:PUBLISH
BEGIN:VEVENT
SUMMARY:Vánoční koncert dětí z MŠ Jahodová
LOCATION:Evangelický kostel Čáslav
DTSTART:20251211T000000
DTEND:20251212T000000
UID:2026-04-19-19-36-26@infocaslav.cz
DTSTAMP:20260419T173626
Description:
END:VEVENT
END:VCALENDAR
