BEGIN:VCALENDAR
VERSION:2.0
PRODID:-//www.gramonet.cz//GramonetCalLib 1.0//EN
CALSCALE:GREGORIAN
METHOD:PUBLISH
BEGIN:VEVENT
SUMMARY:Vánoční Koncert Klientů Domova Laguna Psáry
LOCATION:Výstavní síň, náměstí J. Žižky z Trocnova
DTSTART:20241204T000000
DTEND:20241205T000000
UID:2026-04-19-19-35-54@infocaslav.cz
DTSTAMP:20260419T173554
Description:Výstavní síň nám. J. Žižky z Trocnova
END:VEVENT
END:VCALENDAR
