BEGIN:VCALENDAR
VERSION:2.0
PRODID:-//www.gramonet.cz//GramonetCalLib 1.0//EN
CALSCALE:GREGORIAN
METHOD:PUBLISH
BEGIN:VEVENT
SUMMARY:Vánoční koncert pěveckého sboru Gymnázia a SOŠPg Ćáslav
LOCATION:Kostel sv. Petra a Pavla
DTSTART:20231221T000000
DTEND:20231222T000000
UID:2026-04-19-19-37-27@infocaslav.cz
DTSTAMP:20260419T173727
Description:
END:VEVENT
END:VCALENDAR
