BEGIN:VCALENDAR
VERSION:2.0
PRODID:-//www.gramonet.cz//GramonetCalLib 1.0//EN
CALSCALE:GREGORIAN
METHOD:PUBLISH
BEGIN:VEVENT
SUMMARY:Vánoční koncert Věnovanky
LOCATION:Dusíkovo divadlo - Nová scéna
DTSTART:20231210T000000
DTEND:20231211T000000
UID:2026-04-19-19-33-48@infocaslav.cz
DTSTAMP:20260419T173348
Description:
END:VEVENT
END:VCALENDAR
