BEGIN:VCALENDAR
VERSION:2.0
PRODID:-//www.gramonet.cz//GramonetCalLib 1.0//EN
CALSCALE:GREGORIAN
METHOD:PUBLISH
BEGIN:VEVENT
SUMMARY:Vánoční nadílka
LOCATION:náměstí Jana Žižky
DTSTART:20221216T000000
DTEND:20221217T000000
UID:2026-04-19-19-31-26@infocaslav.cz
DTSTAMP:20260419T173126
Description:
END:VEVENT
END:VCALENDAR
