BEGIN:VCALENDAR
VERSION:2.0
PRODID:-//www.gramonet.cz//GramonetCalLib 1.0//EN
CALSCALE:GREGORIAN
METHOD:PUBLISH
BEGIN:VEVENT
SUMMARY:Vánoční tvoření
LOCATION:RC Kopretina
DTSTART:20221208T000000
DTEND:20221209T000000
UID:2026-04-19-19-34-02@infocaslav.cz
DTSTAMP:20260419T173402
Description:
END:VEVENT
END:VCALENDAR
