BEGIN:VCALENDAR
VERSION:2.0
PRODID:-//www.gramonet.cz//GramonetCalLib 1.0//EN
CALSCALE:GREGORIAN
METHOD:PUBLISH
BEGIN:VEVENT
SUMMARY:Vánoční tvoření
LOCATION:RC Kopretina
DTSTART:20221201T000000
DTEND:20221202T000000
UID:2026-04-19-19-32-43@infocaslav.cz
DTSTAMP:20260419T173243
Description:
END:VEVENT
END:VCALENDAR
