BEGIN:VCALENDAR
VERSION:2.0
PRODID:-//www.gramonet.cz//GramonetCalLib 1.0//EN
CALSCALE:GREGORIAN
METHOD:PUBLISH
BEGIN:VEVENT
SUMMARY:Vánoční výstava  - Diakonie
LOCATION:Sociálně terapeutická dílna v Čáslavi, Komenského nám. 140
DTSTART:20241209T000000
DTEND:20241219T000000
UID:2026-04-19-19-26-32@infocaslav.cz
DTSTAMP:20260419T172632
Description:
END:VEVENT
END:VCALENDAR
