BEGIN:VCALENDAR
VERSION:2.0
PRODID:-//www.gramonet.cz//GramonetCalLib 1.0//EN
CALSCALE:GREGORIAN
METHOD:PUBLISH
BEGIN:VEVENT
SUMMARY:Vánoční výstava hraček
LOCATION:Výstavní síň, náměstí J. Žižky z Trocnova
DTSTART:20241203T000000
DTEND:20250106T000000
UID:2026-04-19-19-34-25@infocaslav.cz
DTSTAMP:20260419T173425
Description:
END:VEVENT
END:VCALENDAR
