BEGIN:VCALENDAR
VERSION:2.0
PRODID:-//www.gramonet.cz//GramonetCalLib 1.0//EN
CALSCALE:GREGORIAN
METHOD:PUBLISH
BEGIN:VEVENT
SUMMARY:Vánoční vystoupení s divadélkem
LOCATION:kostel sv. Petra a Pavla Čáslav
DTSTART:20251215T000000
DTEND:20251216T000000
UID:2026-04-19-19-26-55@infocaslav.cz
DTSTAMP:20260419T172655
Description:
END:VEVENT
END:VCALENDAR
