BEGIN:VCALENDAR
VERSION:2.0
PRODID:-//www.gramonet.cz//GramonetCalLib 1.0//EN
CALSCALE:GREGORIAN
METHOD:PUBLISH
BEGIN:VEVENT
SUMMARY:Varhanní koncert
LOCATION:kostel sv. Petra a Pavla
DTSTART:20230610T000000
DTEND:20230611T000000
UID:2026-04-19-19-29-36@infocaslav.cz
DTSTAMP:20260419T172936
Description:
END:VEVENT
END:VCALENDAR
