BEGIN:VCALENDAR
VERSION:2.0
PRODID:-//www.gramonet.cz//GramonetCalLib 1.0//EN
CALSCALE:GREGORIAN
METHOD:PUBLISH
BEGIN:VEVENT
SUMMARY:Večer o autismu
LOCATION:Komenského nám. 140
DTSTART:20220407T000000
DTEND:20220408T000000
UID:2026-04-19-19-32-58@infocaslav.cz
DTSTAMP:20260419T173258
Description:
END:VEVENT
END:VCALENDAR
