BEGIN:VCALENDAR
VERSION:2.0
PRODID:-//www.gramonet.cz//GramonetCalLib 1.0//EN
CALSCALE:GREGORIAN
METHOD:PUBLISH
BEGIN:VEVENT
SUMMARY:Večer otevřených bran na zámku Žleby
LOCATION:Zámek Žleby
DTSTART:20220827T000000
DTEND:20220828T000000
UID:2026-04-19-19-37-24@infocaslav.cz
DTSTAMP:20260419T173724
Description:
END:VEVENT
END:VCALENDAR
