BEGIN:VCALENDAR
VERSION:2.0
PRODID:-//www.gramonet.cz//GramonetCalLib 1.0//EN
CALSCALE:GREGORIAN
METHOD:PUBLISH
BEGIN:VEVENT
SUMMARY:Vědomostní kvíz - Hotel Grand
LOCATION:salonek hotelu Grand Čáslav
DTSTART:20251112T000000
DTEND:20251211T000000
UID:2026-04-19-19-35-54@infocaslav.cz
DTSTAMP:20260419T173554
Description:
END:VEVENT
END:VCALENDAR
